BEGIN:VCALENDAR
VERSION:2.0
PRODID:-//Brooke Transportation Training Solutions - ECPv4.2.5//NONSGML v1.0//EN
CALSCALE:GREGORIAN
METHOD:PUBLISH
X-WR-CALNAME:Brooke Transportation Training Solutions
X-ORIGINAL-URL:https://www.brooketraining.com
X-WR-CALDESC:Events for Brooke Transportation Training Solutions
BEGIN:VEVENT
DTSTART;VALUE=DATE:20230109
DTEND;VALUE=DATE:20230113
DTSTAMP:20260426T015519
CREATED:20211112
LAST-MODIFIED:20211112
UID:5245-1673222400-1673654399@www.brooketraining.com
SUMMARY:Live Virtual Advanced
DESCRIPTION:Our training continues despite the fact that most of us are staying at home.  Most of our instructors are doing remote training\, and the results are great.  New freight brokers are graduating each month to start a new career from home.   And the timing is great. Because of COVID-19 more consumers are having things delivered\, so more freight brokers are needed to get those good to the various parts of the country.\nOne of our recent graduates has started his new career strong right out of the shoot.  I will write about his story soon.  Don't stay at home and be discouraged.  Learn a new skill\, learn a new career and find your light on the horizon.\n\nEnroll Now
URL:https://www.brooketraining.com/event/live-virtual-advanced-22/
CATEGORIES:Advanced Class
END:VEVENT
END:VCALENDAR