BEGIN:VCALENDAR
VERSION:2.0
PRODID:-//Brooke Transportation Training Solutions - ECPv4.2.5//NONSGML v1.0//EN
CALSCALE:GREGORIAN
METHOD:PUBLISH
X-WR-CALNAME:Brooke Transportation Training Solutions
X-ORIGINAL-URL:https://www.brooketraining.com
X-WR-CALDESC:Events for Brooke Transportation Training Solutions
BEGIN:VEVENT
DTSTART;VALUE=DATE:20250317
DTEND;VALUE=DATE:20250321
DTSTAMP:20260420T115156
CREATED:20241216
LAST-MODIFIED:20241216
UID:30600-1742169600-1742601599@www.brooketraining.com
SUMMARY:Charlotte\, NC
DESCRIPTION:In an information-filled 5 days learn the “how-to” in building a freight brokerage company. From licensing to operations to sales and marketing\, students learn the basics of how to run a freight brokerage. The class curriculum gives students the necessary textbooks and other resource materials to reference as they build their company. Class instruction is made up of lecture\, video\, and some hands-on training.\n\nAt the end of the week you will be equipped for positions paid on commission or hourly paid positions. As an independent broker or agent of an established brokerage you work on commission. The sky is the limit for hard working individuals. Or you can choose to work as an hourly paid dispatcher. Classroom attire is casual and comfortable.\n\nEnroll Now
URL:https://www.brooketraining.com/event/charlotte-nc-37/
LOCATION:650 Tinsley Way\, Rock Hill\, SC\, 29730\, United States
GEO:34.9434436;-80.9750626
X-APPLE-STRUCTURED-LOCATION;VALUE=URI;X-ADDRESS=650 Tinsley Way Rock Hill SC 29730 United States;X-APPLE-RADIUS=500;X-TITLE=650 Tinsley Way:geo:-80.9750626,34.9434436
CATEGORIES:Basic Class,North Carolina
END:VEVENT
END:VCALENDAR